BEGIN:VCALENDAR
VERSION:2.0
PRODID:-//Sterling - ECPv6.15.17.1//NONSGML v1.0//EN
CALSCALE:GREGORIAN
METHOD:PUBLISH
X-WR-CALNAME:Sterling
X-ORIGINAL-URL:https://sterling.com
X-WR-CALDESC:Events for Sterling
REFRESH-INTERVAL;VALUE=DURATION:PT1H
X-Robots-Tag:noindex
X-PUBLISHED-TTL:PT1H
BEGIN:VTIMEZONE
TZID:UTC
BEGIN:STANDARD
TZOFFSETFROM:+0000
TZOFFSETTO:+0000
TZNAME:UTC
DTSTART:20240101T000000
END:STANDARD
END:VTIMEZONE
BEGIN:VEVENT
DTSTART;VALUE=DATE:20250222
DTEND;VALUE=DATE:20250223
DTSTAMP:20260422T170517
CREATED:20250115T220100Z
LAST-MODIFIED:20250115T220238Z
UID:24454-1740182400-1740268799@sterling.com
SUMMARY:ETC! Conference
DESCRIPTION:The Spring ETC! Conference is a one-day event that brings together educators\, technologists\, and community members to learn about the latest educational technology trends and resources. The conference features a variety of workshops\, presentations\, and exhibits from leading educational technology companies.
URL:https://sterling.com/event/etc-conference-2/
LOCATION:Pitman High School\, 2525 W Christoffersen Pkwy\, Turlock\, CA\, 95382\, United States
CATEGORIES:Conference
END:VEVENT
END:VCALENDAR