BEGIN:VCALENDAR
VERSION:2.0
PRODID:-//Sterling - ECPv6.3.3//NONSGML v1.0//EN
CALSCALE:GREGORIAN
METHOD:PUBLISH
X-WR-CALNAME:Sterling
X-ORIGINAL-URL:https://sterling.com
X-WR-CALDESC:Events for Sterling
REFRESH-INTERVAL;VALUE=DURATION:PT1H
X-Robots-Tag:noindex
X-PUBLISHED-TTL:PT1H
BEGIN:VTIMEZONE
TZID:UTC
BEGIN:STANDARD
TZOFFSETFROM:+0000
TZOFFSETTO:+0000
TZNAME:UTC
DTSTART:20240101T000000
END:STANDARD
END:VTIMEZONE
BEGIN:VEVENT
DTSTART;VALUE=DATE:20240219
DTEND;VALUE=DATE:20240223
DTSTAMP:20240222T044550
CREATED:20240126T215629Z
LAST-MODIFIED:20240126T215629Z
UID:21795-1708300800-1708646399@sterling.com
SUMMARY:Rocky Mountain Cyberspace Symposium
DESCRIPTION:The Rocky Mountain Chapter is proud to sponsor the premier annual Rocky Mountain Cyberspace Symposium (RMCS) at the world class Broadmoor resort. This event attracts senior government\, military\, industry executives and academics to discuss the ever challenging cyberspace domain and ways to share information and best practices that can improve current and future cyberspace operations.
URL:https://sterling.com/event/rocky-mountain-cyberspace-symposium-2/
LOCATION:The Broadmoor Hotel\, 1 Lake Avenue\, Colorado Springs\, CO\, 80906\, United States
END:VEVENT
BEGIN:VEVENT
DTSTART;VALUE=DATE:20240222
DTEND;VALUE=DATE:20240223
DTSTAMP:20240222T044550
CREATED:20240126T220116Z
LAST-MODIFIED:20240126T220116Z
UID:21799-1708560000-1708646399@sterling.com
SUMMARY:NIH Tech Day
DESCRIPTION:The nation’s medical research agency – the National Institutes of Health (NIH) – has a massive campus running cutting edge research and development\, supported heavily by advanced technology and innovation. With this comes a unique audience of scientists and personnel with special applications.
URL:https://sterling.com/event/nih-tech-day-2/
LOCATION:Building 10 (Clinical Center) FAES Terrace\, Bethesda\, MD\, United States
END:VEVENT
BEGIN:VEVENT
DTSTART;VALUE=DATE:20240224
DTEND;VALUE=DATE:20240225
DTSTAMP:20240222T044550
CREATED:20240126T220451Z
LAST-MODIFIED:20240126T220451Z
UID:21803-1708732800-1708819199@sterling.com
SUMMARY:ETC! Conference
DESCRIPTION:This year’s conference offers dynamic sessions focusing on technology integration\, collaboration\, hands-on learning experiences\, innovative strategies\, teaching methods\, and pedagogy. ETC strives to provide opportunities to learn\, explore\, and connect. The event will be held on Saturday\, February 24th\, at Pitman High School in Turlock\, CA. Speakers include local educators\, content area experts\, and educational technology vendors all related to developing resources on the use of instructional technology for teaching\, learning\, and professional and personal growth.
URL:https://sterling.com/event/etc-conference/
LOCATION:Pitman High School\, 2525 W Christoffersen Pkwy\, Turlock\, CA\, 95382\, United States
END:VEVENT
BEGIN:VEVENT
DTSTART;VALUE=DATE:20240311
DTEND;VALUE=DATE:20240316
DTSTAMP:20240222T044550
CREATED:20240126T221459Z
LAST-MODIFIED:20240126T221459Z
UID:21807-1710115200-1710547199@sterling.com
SUMMARY:HIMSS Global Conference & Exhibition
DESCRIPTION:Brace yourself for an intellectually stimulating experience as you glean insights from world-renowned experts and dive into the hottest topics in healthcare. Plus\, you’ll be among the first to unveil cutting-edge health technologies poised to conquer your most formidable challenges. Join over 35\,000 passionate professionals from across the global health landscape as we come together to forge meaningful connections amidst a backdrop of valuable sessions and vibrant networking soirées. This is not just an event; it’s a dynamic tapestry of inspiration\, innovation and interaction that you don’t want to miss.
URL:https://sterling.com/event/himss-global-conference-exhibition/
LOCATION:Orange County Convention Center\, Universal Blvd\, Orlando\, FL\, 32819\, United States
END:VEVENT
BEGIN:VEVENT
DTSTART;VALUE=DATE:20240314
DTEND;VALUE=DATE:20240316
DTSTAMP:20240222T044550
CREATED:20240126T221746Z
LAST-MODIFIED:20240126T221746Z
UID:21811-1710374400-1710547199@sterling.com
SUMMARY:NETA
DESCRIPTION:You need effective tools that engage students and enhance your curriculum. The NETA spring conference showcases more than 200 informative learning opportunities\, access to the latest ed tech resources from over 100 exhibitors\, and opportunities for networking.
URL:https://sterling.com/event/neta/
LOCATION:CHI Health Center Omaha\, 455 N 10th St\, Omaha\, NE\, 68102\, United States
END:VEVENT
BEGIN:VEVENT
DTSTART;VALUE=DATE:20240318
DTEND;VALUE=DATE:20240322
DTSTAMP:20240222T044550
CREATED:20240126T222109Z
LAST-MODIFIED:20240126T222109Z
UID:21815-1710720000-1711065599@sterling.com
SUMMARY:NVIDIA GTC AI Conference and Expo
DESCRIPTION:The in-person GTC experience is back—live from the San Jose Convention Center. Don’t miss this chance to connect with peers and industry experts to explore the latest technologies that are transforming every industry\, from accelerated computing to generative AI and beyond.
URL:https://sterling.com/event/nvidia-gtc-ai-conference-and-expo/
LOCATION:San Jose Convention Center\, 150 West San Carlos St.\, San Jose\, CA\, 95113\, United States
END:VEVENT
BEGIN:VEVENT
DTSTART;VALUE=DATE:20240408
DTEND;VALUE=DATE:20240412
DTSTAMP:20240222T044550
CREATED:20230919T191804Z
LAST-MODIFIED:20230919T191804Z
UID:21364-1712534400-1712879999@sterling.com
SUMMARY:NLIT 2024
DESCRIPTION:It’s a large\, dedicated group of professionals at 17 Department of Energy (DOE) National Laboratories. This elite group executes long-term government scientific and technological missions\, often with complex security\, safety\, project management or other operational challenges. And once a year\, these colleagues get together for the NLIT (National Laboratories Information Technology) Summit to discuss IT and cybersecurity issues that are unique to the national laboratory system. \nA multi-day event\, NLIT Summit facilitates an exchange of information management\, best practices\, strategies and methodologies. Each day consists of presentations\, panel discussions\, new equipment/technology demonstrations and information sharing. \nThe 2023 in-person NLIT Summit was a huge success\, with more than 180 industry companies supporting and over 450 government affiliated lab attendees from across the DOE Complex
URL:https://sterling.com/event/nlit-2024/
LOCATION:Seattle Convention Center\, 705 Pike St\, Seattle\, WA\, 98101\, United States
END:VEVENT
BEGIN:VEVENT
DTSTART;VALUE=DATE:20240408
DTEND;VALUE=DATE:20240412
DTSTAMP:20240222T044550
CREATED:20240126T222348Z
LAST-MODIFIED:20240126T222348Z
UID:21819-1712534400-1712879999@sterling.com
SUMMARY:NLIT Summit
DESCRIPTION:The Summit consists of presentations\, Community of Interest Network (COIN) collaboration sessions\, panel discussions\, tutorials\, and technology demonstrations on a variety of topics of current interest to the IT community within DOE. There is an emphasis on providing opportunities for active participation and networking between attendees. Best practices\, strategies\, methodologies\, implementations\, lessons learned\, innovative solutions\, and emerging topics within the DOE community are shared during the Summit’s many sessions and events.
URL:https://sterling.com/event/nlit-summit-2/
LOCATION:Seattle Convention Center\, 705 Pike St\, Seattle\, WA\, 98101\, United States
END:VEVENT
BEGIN:VEVENT
DTSTART;VALUE=DATE:20240415
DTEND;VALUE=DATE:20240417
DTSTAMP:20240222T044550
CREATED:20240129T144122Z
LAST-MODIFIED:20240129T144122Z
UID:21821-1713139200-1713311999@sterling.com
SUMMARY:TIE Conference
DESCRIPTION:Rediscover your passion for teaching and renew your sense of purpose at the 2024 TIE Conference—the leading event for educators in South Dakota and neighboring regions. \nFuel your drive for education and help shape the future of learning. Over two days in Sioux Falls\, you’ll get the professional learning—and inspiration—you need to meet today’s challenges and stay ahead of the rapidly changing environment.
URL:https://sterling.com/event/tie-conference-2/
LOCATION:Sioux Falls\, SD
END:VEVENT
BEGIN:VEVENT
DTSTART;VALUE=DATE:20240625
DTEND;VALUE=DATE:20240628
DTSTAMP:20240222T044550
CREATED:20240129T144511Z
LAST-MODIFIED:20240129T144511Z
UID:21825-1719273600-1719532799@sterling.com
SUMMARY:TechNet Cyber
DESCRIPTION:The harnessing of the right cyber power is more important than ever in a domain deluged by persistent attacks and simultaneous sophisticated campaigns that threaten global political\, economic and security interests. \nA flagship event\, AFCEA’s TechNet Cyber serves as a center of gravity for a whole-of-government effort to bring together the policy\, strategic architecture\, operations and C2— along with the joint capabilities—needed to meet the global security challenges and successfully operate in a digital environment.
URL:https://sterling.com/event/technet-cyber-2/
LOCATION:Baltimore Convention Center\, One West Pratt Street\, Baltimore\, MD\, 21201\, United States
END:VEVENT
BEGIN:VEVENT
DTSTART;VALUE=DATE:20240819
DTEND;VALUE=DATE:20240823
DTSTAMP:20240222T044550
CREATED:20240129T144951Z
LAST-MODIFIED:20240129T144951Z
UID:21829-1724025600-1724371199@sterling.com
SUMMARY:TechNet Augusta
DESCRIPTION:TechNet Augusta 2024 gives participants the opportunity to examine and explore the intricacies of the cyber domain. With assistance from the U.S. Army Cyber Center of Excellence and industry experts\, the conference is designed to open the lines of communication and facilitate networking\, education and problem solving. Leaders and operators also discuss the procurement challenges the military\, government and industry face during a time of uncertain budgets and runaway technology advances.
URL:https://sterling.com/event/technet-augusta-6/
LOCATION:Augusta Marriott at the Convention Center\, Two Tenth Street\, Augusta\, GA\, 30901\, United States
END:VEVENT
BEGIN:VEVENT
DTSTART;VALUE=DATE:20240916
DTEND;VALUE=DATE:20240920
DTSTAMP:20240222T044550
CREATED:20240129T145356Z
LAST-MODIFIED:20240129T145356Z
UID:21833-1726444800-1726790399@sterling.com
SUMMARY:TribalNet Conference
DESCRIPTION:TribalNet was formed in 1999 with the primary purpose of bringing tribes\, tribal employees\, and resources together. This objective is achieved under the direction of our four Advisory Boards\, and delivered through our bi-annual magazine\, the Industry Information Portal\, and the Annual Conference and Tradeshow. Over the past two decades\, TribalNet has grown to become the platform to connect and seek opportunities in solutions\, best practices\, and technology among tribal government\, gaming\, and healthcare industries. These organizations and enterprises use TribalNet as a go-to guide for making well informed decisions. Furthermore\, solution providers and vendors work with TribalNet to create solid partnerships within the tribal market by becoming further educated on how to best service this one-of-a-kind market. For nearly 25 years\, TribalNet has fostered many long-lasting peer-to-peer relationships as well as profitable connections.
URL:https://sterling.com/event/tribalnet-conference-3/
LOCATION:Westgate Las Vegas\, 3000 Paradise Rd\, Las Vegas\, NV\, 89109\, United States
END:VEVENT
BEGIN:VEVENT
DTSTART;VALUE=DATE:20241022
DTEND;VALUE=DATE:20241025
DTSTAMP:20240222T044550
CREATED:20240129T145701Z
LAST-MODIFIED:20240129T145701Z
UID:21837-1729555200-1729814399@sterling.com
SUMMARY:TechNet Indo-Pacific
DESCRIPTION:Considered by many a natural region that stretches from the African east coast to the U.S. west coast\, the Indo-Pacific area has undergone a strategic shift that requires reliable connectivity between the Indian and Pacific oceans. Today’s reality is that the historic and contemporary nations in South Asia\, specifically India\, play a major role in shaping present and future discourses. \nKeying off this shift\, AFCEA International and AFCEA Hawaii have re-named their signature event in the region TechNet Indo-Pacific. By far the largest event focusing on regional defense issues\, the conference will reflect the expanded broader Asia view with participation from throughout the area\, discussing defense policies and challenges and their relevance to both industry and government through this new lens.
URL:https://sterling.com/event/technet-indo-pacific/
LOCATION:Hawai’i Convention Center\, 1801 Kalākaua Avenue\, Honolulu\, HI\, 96815\, United States
END:VEVENT
END:VCALENDAR