BEGIN:VCALENDAR
VERSION:2.0
PRODID:-//Sterling - ECPv6.15.17.1//NONSGML v1.0//EN
CALSCALE:GREGORIAN
METHOD:PUBLISH
X-WR-CALNAME:Sterling
X-ORIGINAL-URL:https://sterling.com
X-WR-CALDESC:Events for Sterling
REFRESH-INTERVAL;VALUE=DURATION:PT1H
X-Robots-Tag:noindex
X-PUBLISHED-TTL:PT1H
BEGIN:VTIMEZONE
TZID:America/Chicago
BEGIN:DAYLIGHT
TZOFFSETFROM:-0600
TZOFFSETTO:-0500
TZNAME:CDT
DTSTART:20220313T080000
END:DAYLIGHT
BEGIN:STANDARD
TZOFFSETFROM:-0500
TZOFFSETTO:-0600
TZNAME:CST
DTSTART:20221106T070000
END:STANDARD
BEGIN:DAYLIGHT
TZOFFSETFROM:-0600
TZOFFSETTO:-0500
TZNAME:CDT
DTSTART:20230312T080000
END:DAYLIGHT
BEGIN:STANDARD
TZOFFSETFROM:-0500
TZOFFSETTO:-0600
TZNAME:CST
DTSTART:20231105T070000
END:STANDARD
BEGIN:DAYLIGHT
TZOFFSETFROM:-0600
TZOFFSETTO:-0500
TZNAME:CDT
DTSTART:20240310T080000
END:DAYLIGHT
BEGIN:STANDARD
TZOFFSETFROM:-0500
TZOFFSETTO:-0600
TZNAME:CST
DTSTART:20241103T070000
END:STANDARD
END:VTIMEZONE
BEGIN:VEVENT
DTSTART;TZID=America/Chicago:20230502T090000
DTEND;TZID=America/Chicago:20230502T133000
DTSTAMP:20260422T100811
CREATED:20230316T101207Z
LAST-MODIFIED:20230316T101207Z
UID:19407-1683018000-1683034200@sterling.com
SUMMARY:Scott AFB Technology Expo
DESCRIPTION:The Annual Technology Expo for Scott AFB is THE way to make contacts and inroads with personnel from this important air force base. The 2023 Scott AFB Expo will be promoted to HQ AF Air Mobility Command\, US Transportation Command\, AF Communications Command\, DISA and over 40 other tenant commands! Over 200 attendees look forward to and attend this expo each and every year. This is always a MUST DO Show for a very important Air Force site that always is a highly interactive program. For procurement\, May/June are the most important months of the year at Scott AFB. With high demand for this event that was held back on base for the first time in 3 years in 2022\, the facility will fill quickly. It’s important to secure a space well in advance for this event.
URL:https://sterling.com/event/scott-afb-technology-expo/
LOCATION:LA
CATEGORIES:Expo
END:VEVENT
END:VCALENDAR