BEGIN:VCALENDAR
VERSION:2.0
PRODID:-//Sterling - ECPv6.15.17.1//NONSGML v1.0//EN
CALSCALE:GREGORIAN
METHOD:PUBLISH
X-ORIGINAL-URL:https://sterling.com
X-WR-CALDESC:Events for Sterling
REFRESH-INTERVAL;VALUE=DURATION:PT1H
X-Robots-Tag:noindex
X-PUBLISHED-TTL:PT1H
BEGIN:VTIMEZONE
TZID:America/Chicago
BEGIN:DAYLIGHT
TZOFFSETFROM:-0600
TZOFFSETTO:-0500
TZNAME:CDT
DTSTART:20220313T080000
END:DAYLIGHT
BEGIN:STANDARD
TZOFFSETFROM:-0500
TZOFFSETTO:-0600
TZNAME:CST
DTSTART:20221106T070000
END:STANDARD
BEGIN:DAYLIGHT
TZOFFSETFROM:-0600
TZOFFSETTO:-0500
TZNAME:CDT
DTSTART:20230312T080000
END:DAYLIGHT
BEGIN:STANDARD
TZOFFSETFROM:-0500
TZOFFSETTO:-0600
TZNAME:CST
DTSTART:20231105T070000
END:STANDARD
BEGIN:DAYLIGHT
TZOFFSETFROM:-0600
TZOFFSETTO:-0500
TZNAME:CDT
DTSTART:20240310T080000
END:DAYLIGHT
BEGIN:STANDARD
TZOFFSETFROM:-0500
TZOFFSETTO:-0600
TZNAME:CST
DTSTART:20241103T070000
END:STANDARD
END:VTIMEZONE
BEGIN:VEVENT
DTSTART;VALUE=DATE:20230614
DTEND;VALUE=DATE:20230615
DTSTAMP:20260422T084710
CREATED:20230313T094557Z
LAST-MODIFIED:20230313T094557Z
UID:19389-1686700800-1686787199@sterling.com
SUMMARY:NIST NOAA DoC Campus Technology Day
DESCRIPTION:Some of the world’s top\, groundbreaking science is happening in the Rocky Mountains foothills. There\, Boulder Labs’ scientists seek ways to better engineer and research electromagnetics\, materials reliability\, optoelectronics\, quantum electronics and physics\, time and frequency\, earth systems\, weather\, and telecommunication. \nHosted by the Boulder Laboratories Employee Association (BLEA)\, this event encourages employees (full and part time) and contractors of NIST\, NOAA\, ERL\, MASC\, NDGC\, NTIA and ITS to participate.
URL:https://sterling.com/event/nist-noaa-doc-campus-technology-day/
LOCATION:LA
CATEGORIES:Expo
END:VEVENT
BEGIN:VEVENT
DTSTART;VALUE=DATE:20230615
DTEND;VALUE=DATE:20230616
DTSTAMP:20260422T084710
CREATED:20230313T102500Z
LAST-MODIFIED:20230313T102500Z
UID:19392-1686787200-1686873599@sterling.com
SUMMARY:Denver Federal Center Technology Day
DESCRIPTION:DFC is home to over 6200 federal employees from 26 agencies\, making this the largest concentration of Federal agencies outside of Washington\, DC. This event provides a cost effective forum to interact with attendees from a wide range of agencies that are housed in the 55 buildings on the DFC campus.
URL:https://sterling.com/event/denver-federal-center-technology-day/
LOCATION:LA
CATEGORIES:Expo
END:VEVENT
END:VCALENDAR