BEGIN:VCALENDAR
VERSION:2.0
PRODID:-//Sterling - ECPv6.15.20//NONSGML v1.0//EN
CALSCALE:GREGORIAN
METHOD:PUBLISH
X-ORIGINAL-URL:https://sterling.com
X-WR-CALDESC:Events for Sterling
REFRESH-INTERVAL;VALUE=DURATION:PT1H
X-Robots-Tag:noindex
X-PUBLISHED-TTL:PT1H
BEGIN:VTIMEZONE
TZID:America/Chicago
BEGIN:DAYLIGHT
TZOFFSETFROM:-0600
TZOFFSETTO:-0500
TZNAME:CDT
DTSTART:20200308T080000
END:DAYLIGHT
BEGIN:STANDARD
TZOFFSETFROM:-0500
TZOFFSETTO:-0600
TZNAME:CST
DTSTART:20201101T070000
END:STANDARD
BEGIN:DAYLIGHT
TZOFFSETFROM:-0600
TZOFFSETTO:-0500
TZNAME:CDT
DTSTART:20210314T080000
END:DAYLIGHT
BEGIN:STANDARD
TZOFFSETFROM:-0500
TZOFFSETTO:-0600
TZNAME:CST
DTSTART:20211107T070000
END:STANDARD
BEGIN:DAYLIGHT
TZOFFSETFROM:-0600
TZOFFSETTO:-0500
TZNAME:CDT
DTSTART:20220313T080000
END:DAYLIGHT
BEGIN:STANDARD
TZOFFSETFROM:-0500
TZOFFSETTO:-0600
TZNAME:CST
DTSTART:20221106T070000
END:STANDARD
END:VTIMEZONE
BEGIN:VEVENT
DTSTART;TZID=America/Chicago:20210602T110000
DTEND;TZID=America/Chicago:20210602T114500
DTSTAMP:20260424T012713
CREATED:20210518T165038Z
LAST-MODIFIED:20210518T165038Z
UID:12437-1622631600-1622634300@sterling.com
SUMMARY:Power Block Session: Exploring the New Virtual Machine Service within Tanzu to Support Complete Infrastructure as Code
DESCRIPTION:In a recent update VMware has announced the Virtual Machine service within the Kubernetes based vSphere with Tanzu capability set. This VM service allows operators to provide self-service functionality to their consumers using a common Kubernetes API for any workload desired such as vSphere Pods (containers)\, Tanzu Kubernetes Clusters\, and now Virtual Machines. We’ll explore how this added benefit helps consolidate deployment platforms for all workloads to create a seamless infrastructure as code based environment. \n  \nClick to register.
URL:https://sterling.com/event/power-block-session-texploring-the-new-virtual-machine-service-within-tanzu-to-support-complete-infrastructure-as-code/
CATEGORIES:Webinar
END:VEVENT
END:VCALENDAR