BEGIN:VCALENDAR
VERSION:2.0
PRODID:-//Sterling - ECPv6.15.20//NONSGML v1.0//EN
CALSCALE:GREGORIAN
METHOD:PUBLISH
X-WR-CALNAME:Sterling
X-ORIGINAL-URL:https://sterling.com
X-WR-CALDESC:Events for Sterling
REFRESH-INTERVAL;VALUE=DURATION:PT1H
X-Robots-Tag:noindex
X-PUBLISHED-TTL:PT1H
BEGIN:VTIMEZONE
TZID:America/Chicago
BEGIN:DAYLIGHT
TZOFFSETFROM:-0600
TZOFFSETTO:-0500
TZNAME:CDT
DTSTART:20200308T080000
END:DAYLIGHT
BEGIN:STANDARD
TZOFFSETFROM:-0500
TZOFFSETTO:-0600
TZNAME:CST
DTSTART:20201101T070000
END:STANDARD
BEGIN:DAYLIGHT
TZOFFSETFROM:-0600
TZOFFSETTO:-0500
TZNAME:CDT
DTSTART:20210314T080000
END:DAYLIGHT
BEGIN:STANDARD
TZOFFSETFROM:-0500
TZOFFSETTO:-0600
TZNAME:CST
DTSTART:20211107T070000
END:STANDARD
BEGIN:DAYLIGHT
TZOFFSETFROM:-0600
TZOFFSETTO:-0500
TZNAME:CDT
DTSTART:20220313T080000
END:DAYLIGHT
BEGIN:STANDARD
TZOFFSETFROM:-0500
TZOFFSETTO:-0600
TZNAME:CST
DTSTART:20221106T070000
END:STANDARD
END:VTIMEZONE
BEGIN:VEVENT
DTSTART;TZID=America/Chicago:20210609T110000
DTEND;TZID=America/Chicago:20210609T114500
DTSTAMP:20260424T024549
CREATED:20210528T110612Z
LAST-MODIFIED:20210528T110612Z
UID:12561-1623236400-1623239100@sterling.com
SUMMARY:Power Block Session: vRealize Automation and SaltStack
DESCRIPTION:How can organizations maintain the standards of their environments\, and protect them? Learn how SaltStack Config can be used along with vRealize Automation to configure workloads deployed into your environment and maintain those standards from drift. We will use vRealize Automation to deploy our template\, and then configure the workloads and maintain them using SaltStack Config. \nClick to register.
URL:https://sterling.com/event/power-block-session-vrealize-automation-and-saltstack/
CATEGORIES:Webinar
END:VEVENT
END:VCALENDAR