BEGIN:VCALENDAR
VERSION:2.0
PRODID:-//Sterling - ECPv6.15.20//NONSGML v1.0//EN
CALSCALE:GREGORIAN
METHOD:PUBLISH
X-WR-CALNAME:Sterling
X-ORIGINAL-URL:https://sterling.com
X-WR-CALDESC:Events for Sterling
REFRESH-INTERVAL;VALUE=DURATION:PT1H
X-Robots-Tag:noindex
X-PUBLISHED-TTL:PT1H
BEGIN:VTIMEZONE
TZID:America/Chicago
BEGIN:DAYLIGHT
TZOFFSETFROM:-0600
TZOFFSETTO:-0500
TZNAME:CDT
DTSTART:20200308T080000
END:DAYLIGHT
BEGIN:STANDARD
TZOFFSETFROM:-0500
TZOFFSETTO:-0600
TZNAME:CST
DTSTART:20201101T070000
END:STANDARD
BEGIN:DAYLIGHT
TZOFFSETFROM:-0600
TZOFFSETTO:-0500
TZNAME:CDT
DTSTART:20210314T080000
END:DAYLIGHT
BEGIN:STANDARD
TZOFFSETFROM:-0500
TZOFFSETTO:-0600
TZNAME:CST
DTSTART:20211107T070000
END:STANDARD
BEGIN:DAYLIGHT
TZOFFSETFROM:-0600
TZOFFSETTO:-0500
TZNAME:CDT
DTSTART:20220313T080000
END:DAYLIGHT
BEGIN:STANDARD
TZOFFSETFROM:-0500
TZOFFSETTO:-0600
TZNAME:CST
DTSTART:20221106T070000
END:STANDARD
END:VTIMEZONE
BEGIN:VEVENT
DTSTART;TZID=America/Chicago:20210616T110000
DTEND;TZID=America/Chicago:20210616T114500
DTSTAMP:20260424T024433
CREATED:20210528T113544Z
LAST-MODIFIED:20210528T113544Z
UID:12563-1623841200-1623843900@sterling.com
SUMMARY:Power Block Session: Tanzu with PowerStore (Reference Architecture)
DESCRIPTION:Learn how vSphere with Tanzu can leverage efficient\, scalable\, and high speed storage in Dell’s PowerStore platform to backup and contain persistent data for your applications running on Kubernetes \nClick to register.
URL:https://sterling.com/event/tanzu-with-power-store-reference-architecture/
CATEGORIES:Webinar
END:VEVENT
END:VCALENDAR