BEGIN:VCALENDAR
VERSION:2.0
PRODID:-//Sterling - ECPv6.15.17.1//NONSGML v1.0//EN
CALSCALE:GREGORIAN
METHOD:PUBLISH
X-WR-CALNAME:Sterling
X-ORIGINAL-URL:https://sterling.com
X-WR-CALDESC:Events for Sterling
REFRESH-INTERVAL;VALUE=DURATION:PT1H
X-Robots-Tag:noindex
X-PUBLISHED-TTL:PT1H
BEGIN:VTIMEZONE
TZID:America/Chicago
BEGIN:DAYLIGHT
TZOFFSETFROM:-0600
TZOFFSETTO:-0500
TZNAME:CDT
DTSTART:20190310T080000
END:DAYLIGHT
BEGIN:STANDARD
TZOFFSETFROM:-0500
TZOFFSETTO:-0600
TZNAME:CST
DTSTART:20191103T070000
END:STANDARD
BEGIN:DAYLIGHT
TZOFFSETFROM:-0600
TZOFFSETTO:-0500
TZNAME:CDT
DTSTART:20200308T080000
END:DAYLIGHT
BEGIN:STANDARD
TZOFFSETFROM:-0500
TZOFFSETTO:-0600
TZNAME:CST
DTSTART:20201101T070000
END:STANDARD
BEGIN:DAYLIGHT
TZOFFSETFROM:-0600
TZOFFSETTO:-0500
TZNAME:CDT
DTSTART:20210314T080000
END:DAYLIGHT
BEGIN:STANDARD
TZOFFSETFROM:-0500
TZOFFSETTO:-0600
TZNAME:CST
DTSTART:20211107T070000
END:STANDARD
BEGIN:DAYLIGHT
TZOFFSETFROM:-0600
TZOFFSETTO:-0500
TZNAME:CDT
DTSTART:20220313T080000
END:DAYLIGHT
BEGIN:STANDARD
TZOFFSETFROM:-0500
TZOFFSETTO:-0600
TZNAME:CST
DTSTART:20221106T070000
END:STANDARD
END:VTIMEZONE
BEGIN:VEVENT
DTSTART;TZID=America/Chicago:20210209T110000
DTEND;TZID=America/Chicago:20210209T114500
DTSTAMP:20260420T082541
CREATED:20210121T115846Z
LAST-MODIFIED:20210121T115846Z
UID:11169-1612868400-1612871100@sterling.com
SUMMARY:Sterling Live Demo: Horizon on VxRail
DESCRIPTION:VxRail with Horizon delivers a turnkey solution enabling organizations to cost-effectively and quickly transform physical desktops into secure digital workspaces with a hyperconverged infrastructure appliance (HCIA) that is easier to procure\, deploy\, manage\, and scale as demand grows.  VxRail nodes come pre-configured with ESXi server\, vCenter Server and Virtual SAN for all nodes\, streamlining the onboarding of your Horizon environment.  We will demonstrate the how the VxRail infrastructure is pre-configured for Horizon\, and how Horizon provides on-demand virtual desktops via the web or Horizon desktop client. \nClick to register.
URL:https://sterling.com/event/sterling-live-demo-vxrail-with-horizon/
CATEGORIES:Webinar
END:VEVENT
BEGIN:VEVENT
DTSTART;TZID=America/Chicago:20210203T110000
DTEND;TZID=America/Chicago:20210203T114500
DTSTAMP:20260420T082541
CREATED:20210111T113621Z
LAST-MODIFIED:20210111T113621Z
UID:11109-1612350000-1612352700@sterling.com
SUMMARY:Power Block Session: Terraform with NSX-T and vSphere
DESCRIPTION:HashiCorp Terraform is a great open source solution for infrastructure as code(IaC). Here we will go through basic manifest creation for Terraform\, and show how this open source solution can be extremely powerful. We’ll take you through Terraform and deploy on VMware infrastructure so you can leverage this in your private cloud and understand how this can fit in your environment and use-case.
URL:https://sterling.com/event/vmware-powerblock-session-terraform-with-nsx-t-and-vsphere/
CATEGORIES:Webinar
END:VEVENT
BEGIN:VEVENT
DTSTART;TZID=America/Chicago:20210127T110000
DTEND;TZID=America/Chicago:20210127T114500
DTSTAMP:20260420T082541
CREATED:20210111T113214Z
LAST-MODIFIED:20210111T113214Z
UID:11107-1611745200-1611747900@sterling.com
SUMMARY:Power Block Session: Deploying Containerized applications to vSphere with Tanzu using Helm
DESCRIPTION:Learn to leverage the open-source community to enhance application packaging for containerized workloads on top of your vSphere with Tanzu environment using Helm. Helm allows developers and administrators alike to seamlessly create and package applications that permits integrated version control and advanced deployment methods. Be sure to couple this Helm capability in your application rollouts on top of a native vSphere environment.
URL:https://sterling.com/event/deploying-containerized-applications-to-vsphere-with-tanzu-using-helm/
CATEGORIES:Webinar
END:VEVENT
BEGIN:VEVENT
DTSTART;TZID=America/Chicago:20210126T110000
DTEND;TZID=America/Chicago:20210126T114500
DTSTAMP:20260420T082541
CREATED:20210120T130723Z
LAST-MODIFIED:20210120T130723Z
UID:11136-1611658800-1611661500@sterling.com
SUMMARY:Sterling Live Demo: VMware Cloud on AWS
DESCRIPTION:Using VMware Cloud on AWS you can leverage your existing VMware investment by extending expertise into the cloud for immediate benefits in resiliency\, scalability\, and elasticity. VMware Cloud on AWS provides a conduit to ease cloud migration without the need for complete application rehauls or complex conversion processes. We’ll examine how a hybrid cloud environment looks and feels while also demonstrating an actual migration of a workload from on-prem to VMC on AWS using VMware HCX. By the end we’ll have a full grasp what a sample cloud migration takes to accomplish when using VMware as the common workload platform. \nClick to register.
URL:https://sterling.com/event/sterling-live-demo-vmware-cloud-on-aws/
CATEGORIES:Webinar
END:VEVENT
BEGIN:VEVENT
DTSTART;TZID=America/Chicago:20210114T110000
DTEND;TZID=America/Chicago:20210114T120000
DTSTAMP:20260420T082541
CREATED:20210111T135643Z
LAST-MODIFIED:20210111T135643Z
UID:11116-1610622000-1610625600@sterling.com
SUMMARY:Dell Technologies - A Beginner's Guide to Today's Cyber Recovery Threats
DESCRIPTION:  \n  \n  \n  \n  \n  \n  \nCyber and ransomware attacks are the enemy of today’s data-driven organizations. \nDid you know? \n\n79% of executives ranked cyber-attacks and threats as one of their organization’s highest risk management priorities in 2020.\nThe average cost of cybercrime for an organization is $13 million.\n\n\nThe global cost of cybercrime is expected to be nearly $5.2 TRILLION over the next 5 years.\n\nSterling\, Dell Technologies\, Arrow\, and Immix group bring you an opportunity to understand the benefits of a dedicated Dell Cyber Recovery Vault. \nIn this session\, we will cover: \n\nThe rise of ransomware attacks\nProposed legislation that would make paying ransoms illegal\nThe general design criteria for an improved and robust cyber-recovery strategy\nDell Technologies market-leading approach to increasing the ability to detect and recover from a ransomware attack\n\nGet ahead of a cyber-attack.  Modern data protection when and where you need it the most that could save you time\, money\, and even the livelihood of your organization! \n**Receive a FandangoNOW movie code to redeem at home** \n**To receive your FandangoNOW code for your very own at home movie experience\, you must register and attend the webinar in its entirety.
URL:https://sterling.com/event/dell-technologies-a-beginners-guide-to-todays-cyber-recovery-threats/
CATEGORIES:Webinar
END:VEVENT
BEGIN:VEVENT
DTSTART;TZID=America/Chicago:20210113T110000
DTEND;TZID=America/Chicago:20210113T114500
DTSTAMP:20260420T082541
CREATED:20210111T112218Z
LAST-MODIFIED:20210111T112218Z
UID:11105-1610535600-1610538300@sterling.com
SUMMARY:Power Block Session: vRealize Automation Blueprinting
DESCRIPTION:Does vRealize Automation seem too complex to use? In this session we want to help our customers understand how to leverage custom automation through the vRA platform to deploy virtual machines\, that can then be used for developer application\, system tools etc. This session will start at “I’ve set up vRA now what?” and lead into initial setup\, blueprint creation\, and catalog creation for users to consume your automation through vRA.
URL:https://sterling.com/event/vrealize-automation-blueprinting/
CATEGORIES:Webinar
END:VEVENT
BEGIN:VEVENT
DTSTART;TZID=America/Chicago:20201014T130000
DTEND;TZID=America/Chicago:20201014T140000
DTSTAMP:20260420T082541
CREATED:20200910T084424Z
LAST-MODIFIED:20200910T084424Z
UID:10460-1602680400-1602684000@sterling.com
SUMMARY:Horizon Delivery models - A Modernized approach to Desktops and Apps
DESCRIPTION:Carahsoft and Sterling would like to offer you the opportunity to attend a variety of sessions on end-user computing topics you and your organization care about. See below for more information on one session of the VMware Federal Healthcare End User Computing Webinar Series.\n\n\n\n\n\n\n\n\n\n  \nDiscussion points: \n\nSegmenting users and understanding use cases is important. Learn how to segment users \nUnderstand differences between desktop persistence and user persistence.\nAchieve different levels of persistence using various Horizon components.\nDiscuss how FSLogix fits into these models.\nGet practical usage tips on the delivery models
URL:https://sterling.com/event/horizon-delivery-models-a-modernized-approach-to-desktops-and-apps/
CATEGORIES:Webinar
END:VEVENT
BEGIN:VEVENT
DTSTART;TZID=America/Chicago:20201007T140000
DTEND;TZID=America/Chicago:20201007T150000
DTSTAMP:20260420T082541
CREATED:20200910T084717Z
LAST-MODIFIED:20200910T084717Z
UID:10472-1602079200-1602082800@sterling.com
SUMMARY:Workspace ONE Employee Experience – Intelligent Hub and the Benefits to Clinical Staff
DESCRIPTION:Carahsoft and Sterling would like to offer you the opportunity to attend a variety of sessions on end-user computing topics you and your organization care about. See below for more information on one session of the VMware Federal Healthcare End User Computing Webinar Series.\n\n\n\n\n\n\n\n\n\n  \nDiscussion points: \n\nVMware solutions to empower the digital workspace by simplifying application and access management\, unifying endpoint management and\, transforming Windows delivery
URL:https://sterling.com/event/workspace-one-employee-experience-intelligent-hub-and-the-benefits-to-clinical-staff/
CATEGORIES:Webinar
END:VEVENT
BEGIN:VEVENT
DTSTART;TZID=America/Chicago:20200923T130000
DTEND;TZID=America/Chicago:20200923T140000
DTSTAMP:20260420T082541
CREATED:20200910T085045Z
LAST-MODIFIED:20200910T085045Z
UID:10474-1600866000-1600869600@sterling.com
SUMMARY:VMware Horizon – What’s new
DESCRIPTION:Carahsoft and Sterling would like to offer you the opportunity to attend a variety of sessions on end-user computing topics you and your organization care about. See below for more information on one session of the VMware Federal Healthcare End User Computing Webinar Series.\n\n\n\n\n\n\n\n\n\n  \nDiscussion points: \n\nOverall presentation of new features within Horizon 8 (2006) and what those changes may mean to your network.\nDiscussion on what has been removed from Horizon 7 and how that could impact your network.\nWhat’s new with cloud licensing and perpetual licensing for Horizon 8.
URL:https://sterling.com/event/vmware-horizon-version-8-2006-whats-new/
CATEGORIES:Webinar
END:VEVENT
BEGIN:VEVENT
DTSTART;TZID=America/Chicago:20200902T130000
DTEND;TZID=America/Chicago:20200902T140000
DTSTAMP:20260420T082541
CREATED:20200902T111948Z
LAST-MODIFIED:20200902T111948Z
UID:10352-1599051600-1599055200@sterling.com
SUMMARY:E-Rate: Building and Sustaining your Hybrid Learning Network
DESCRIPTION:When:  Wednesday\, September 2\, 2020\nTime:    1:00 PM CST \nThis webinar has been designed especially for you!  The insights and information shared are game changers that will support your mission of providing the best educational opportunities to your students\, with the utmost security in mind. \nNot to mention\, leveraging the funding resources available to avoid dipping into your school budgets\, and how you can access the technology solutions you need today. \nOur presenter\, Jeff Jennings\, National Education Director with Fortinet\, an IT security solutions provider\, will address: \n\nCybersecurity for K12\nRethinking how to deploy secure technology to support remote learning\nInfrastructure that provides flexibility to pivot when needed\neRate 101 and leveraging all available funding without dipping into school budgets\n\nHave questions?  Submit them in advance.  Click Here. \nWe look forward to having you join us!
URL:https://sterling.com/event/e-rate-building-and-sustaining-your-hybrid-learning-network/
CATEGORIES:Webinar
END:VEVENT
BEGIN:VEVENT
DTSTART;TZID=America/Chicago:20200826T110000
DTEND;TZID=America/Chicago:20200826T113000
DTSTAMP:20260420T082541
CREATED:20200730T095317Z
LAST-MODIFIED:20200730T095317Z
UID:9887-1598439600-1598441400@sterling.com
SUMMARY:VMware Power Block Session
DESCRIPTION:Continuous Integration/Continuous Delivery (CI/CD) with Code Stream \nvRealize Code Stream helps organizations looking to embrace a continuous integration/continuous delivery approach to the delivery of application or IT code. It is an application release automation solution that enables developers and IT teams to release.
URL:https://sterling.com/event/vmware-power-block-session-5/
CATEGORIES:Webinar
END:VEVENT
BEGIN:VEVENT
DTSTART;TZID=America/Chicago:20200818T110000
DTEND;TZID=America/Chicago:20200818T113000
DTSTAMP:20260420T082541
CREATED:20200730T095235Z
LAST-MODIFIED:20200730T095235Z
UID:9885-1597748400-1597750200@sterling.com
SUMMARY:VMware Power Block Session
DESCRIPTION:Terraform IaC (Infrastructure as Code) in a vSphere Environment \nTerraform IaC (Infrastructure as Code) in a vSphere environment. – Deploying a 2-tier app (WordPress) including NSX-T 3.0 for load balancers and Distributed Firewall Rules.
URL:https://sterling.com/event/vmware-power-block-session-4/
CATEGORIES:Webinar
END:VEVENT
BEGIN:VEVENT
DTSTART;TZID=America/Chicago:20200813T130000
DTEND;TZID=America/Chicago:20200813T140000
DTSTAMP:20260420T082541
CREATED:20200730T093723Z
LAST-MODIFIED:20200730T093723Z
UID:9870-1597323600-1597327200@sterling.com
SUMMARY:Sterling: Saving Lives\, One Data Point at a Time
DESCRIPTION:https://sterling.com/wp-content/uploads/2020/07/Sterling-Hoverwing.mp4\n  \nSee how Sterling is using a Hoverwing to collect data and build resiliency in the most extreme environments \nThursday\, August 13th\, 2020 – 1:00 p.m. CST \nData analytics provides possibilities\, mitigates risks\, and bears untapped potential; potential to save lives\, make our world a safer\, better place. Data is easy to gather and track in ideal environments… but what about extreme conditions? And how do you use that data? The future of disaster recovery via land\, air\, sea is in the data points. \nSterling CTO\, Chris Cyr\, has been utilizing hoverwings to collect data in the most extreme environments- high temperatures\, soaring winds\, and cascading waves. Join us in Part 1 of a series of webinars to explore the data obtainment capabilities and harnessing the potential of your data collection. See how Sterling utilizes PowerScale\, and intel to imagine the possibilities for future missions.
URL:https://sterling.com/event/sterling-saving-lives-one-data-point-at-a-time-2/
CATEGORIES:Webinar
END:VEVENT
BEGIN:VEVENT
DTSTART;TZID=America/Chicago:20200812T130000
DTEND;TZID=America/Chicago:20200812T133000
DTSTAMP:20260420T082541
CREATED:20200730T095122Z
LAST-MODIFIED:20200730T095122Z
UID:9883-1597237200-1597239000@sterling.com
SUMMARY:VMware Power Block Session
DESCRIPTION:Security Policies Across Multi-Site NSX-T Federated Environments \nApplication identity\, or fingerprinting\, is a critical component to properly applying security policies within a geographically dispersed environment. In this demonstration we will explore how to successfully secure workloads as they traverse location boundaries of a multi-site private data center environment by applying policy to a centralized NSX-T Global Manager to then Federate\, and distribute\, to all relevant locations. This will afford us the ability to define security policies once based on the application regardless of workload location.
URL:https://sterling.com/event/vmware-power-block-session-3/
CATEGORIES:Webinar
END:VEVENT
BEGIN:VEVENT
DTSTART;TZID=America/Chicago:20200811T130000
DTEND;TZID=America/Chicago:20200811T140000
DTSTAMP:20260420T082541
CREATED:20200730T093647Z
LAST-MODIFIED:20200730T093647Z
UID:9862-1597150800-1597154400@sterling.com
SUMMARY:Sterling: Saving Lives\, One Data Point at a Time
DESCRIPTION:https://sterling.com/wp-content/uploads/2020/07/Sterling-Hoverwing.mp4\n  \nSee how Sterling is using a Hoverwing to collect data and build resiliency in the most extreme environments \nTuesday\, August 11th\, 2020 – 1:00 p.m. CST\n– OR –\nThursday\, August 13th\, 2020 – 1:00 p.m. CST \nData analytics provides possibilities\, mitigates risks\, and bears untapped potential; potential to save lives\, make our world a safer\, better place. Data is easy to gather and track in ideal environments… but what about extreme conditions? And how do you use that data? The future of disaster recovery via land\, air\, sea is in the data points. \nSterling CTO\, Chris Cyr\, has been utilizing hoverwings to collect data in the most extreme environments- high temperatures\, soaring winds\, and cascading waves. Join us in Part 1 of a series of webinars to explore the data obtainment capabilities and harnessing the potential of your data collection. See how Sterling utilizes PowerScale\, and intel to imagine the possibilities for future missions.
URL:https://sterling.com/event/sterling-saving-lives-one-data-point-at-a-time/
CATEGORIES:Webinar
END:VEVENT
BEGIN:VEVENT
DTSTART;TZID=America/Chicago:20200806T110000
DTEND;TZID=America/Chicago:20200806T113000
DTSTAMP:20260420T082541
CREATED:20200730T094943Z
LAST-MODIFIED:20200730T094943Z
UID:9881-1596711600-1596713400@sterling.com
SUMMARY:VMware Power Block Session
DESCRIPTION:Package Applications with Helm to deploy on vSphere with Kubernetes \nHelm is the de-facto package management tool for Kubernetes. In this demonstration we will explore how to utilize a common open source tool\, Helm\, in tandem with VMware Tanzu Kubernetes solution on vSphere 7. Helm will allow us to package a cloud native application and deploy the core business logic along with any dependencies in an easy to execute format removing excess potential for human error during instantiation.
URL:https://sterling.com/event/vmware-power-block-session-2/
CATEGORIES:Webinar
END:VEVENT
BEGIN:VEVENT
DTSTART;TZID=America/Chicago:20200804T110000
DTEND;TZID=America/Chicago:20200804T113000
DTSTAMP:20260420T082541
CREATED:20200730T094834Z
LAST-MODIFIED:20200730T094834Z
UID:9878-1596538800-1596540600@sterling.com
SUMMARY:VMware Power Block Session
DESCRIPTION:vSphere 7: Leveraging Containers & Kubernetes \nUse your existing data center tools and workflows to give developers secure\, self-serve access to conformant Kubernetes clusters in your VMware private cloud and extend the same consistent Kubernetes runtime across your public cloud and edge environments.
URL:https://sterling.com/event/vmware-power-block-session/
CATEGORIES:Webinar
END:VEVENT
END:VCALENDAR