BEGIN:VCALENDAR
VERSION:2.0
PRODID:-//Sterling - ECPv6.15.17.1//NONSGML v1.0//EN
CALSCALE:GREGORIAN
METHOD:PUBLISH
X-ORIGINAL-URL:https://sterling.com
X-WR-CALDESC:Events for Sterling
REFRESH-INTERVAL;VALUE=DURATION:PT1H
X-Robots-Tag:noindex
X-PUBLISHED-TTL:PT1H
BEGIN:VTIMEZONE
TZID:UTC
BEGIN:STANDARD
TZOFFSETFROM:+0000
TZOFFSETTO:+0000
TZNAME:UTC
DTSTART:20250101T000000
END:STANDARD
END:VTIMEZONE
BEGIN:VEVENT
DTSTART;VALUE=DATE:20260312
DTEND;VALUE=DATE:20260313
DTSTAMP:20260422T230115
CREATED:20260227T205709Z
LAST-MODIFIED:20260227T205709Z
UID:27809-1773273600-1773359999@sterling.com
SUMMARY:Dell Federal Symposium
DESCRIPTION:
URL:https://sterling.com/event/dell-federal-symposium/
LOCATION:Hamilton Hotel\, 1001 14th St NW\, Washington\, DC\, DC\, 20005\, United States
CATEGORIES:Conference
END:VEVENT
BEGIN:VEVENT
DTSTART;VALUE=DATE:20260316
DTEND;VALUE=DATE:20260320
DTSTAMP:20260422T230115
CREATED:20260227T205951Z
LAST-MODIFIED:20260227T210041Z
UID:27812-1773619200-1773964799@sterling.com
SUMMARY:NVIDIA GTC
DESCRIPTION:NVIDIA GTC is the premier global AI conference\, where developers\, researchers\, and business leaders come together to explore the next wave of AI innovation. From physical AI and AI factories to agentic AI and inference\, GTC 2026 will showcase the breakthroughs shaping every industry.  \nJoin us at the GTC campus in venues throughout downtown San Jose for inspiring sessions\, hands-on training\, and opportunities to connect with experts and peers—and be part of the unique GTC experience.  \n  \nVisit us at Booth #7036
URL:https://sterling.com/event/nvidia-gtc-2/
LOCATION:San Jose Convention Center\, 150 West San Carlos St.\, San Jose\, CA\, 95113\, United States
CATEGORIES:Conference
END:VEVENT
BEGIN:VEVENT
DTSTART;VALUE=DATE:20260324
DTEND;VALUE=DATE:20260325
DTSTAMP:20260422T230115
CREATED:20260227T220041Z
LAST-MODIFIED:20260227T220041Z
UID:27815-1774310400-1774396799@sterling.com
SUMMARY:Cisco Connect
DESCRIPTION:
URL:https://sterling.com/event/cisco-connect/
LOCATION:Ronald Reagan Building\, 1300 Pennsylvania Avenue\, NW\, Washington\, DC\, 20004\, United States
CATEGORIES:Conference
END:VEVENT
BEGIN:VEVENT
DTSTART;VALUE=DATE:20260324
DTEND;VALUE=DATE:20260326
DTSTAMP:20260422T230115
CREATED:20260227T220950Z
LAST-MODIFIED:20260227T220950Z
UID:27820-1774310400-1774483199@sterling.com
SUMMARY:Argonne & Fermi National Lab Cyber and Technology Series
DESCRIPTION:Federal Training Partnership is proud to announce this two-day Technology Expo outreach series\, taking place in person again in 2026. This exciting opportunity will be limited to 30 top industry partners per event.  This once-a-year opportunity will allow industry partners to interact with Fermilab and Argonne National Laboratory personnel and have access to members of this community. Personnel from throughout Fermilab/ANL will be invited to participate\, with a strong emphasis on the Cyber and Information Technology workforce. \nThe outreach series offers industry a rare opportunity to network and collaborate with technology leaders and end-user personnel from both Department of Energy facilities. Requested technologies include: data loss prevention; intrusion detection\, threat assessment\, network based detection\, big data\, storage\, and cybersecurity. There are also speaking opportunities available as part of the cybersecurity training and outreach for the Laboratory personnel. \nThe program is expected to draw hundreds of attendees between both days from the Fermilab and ANL facilities.
URL:https://sterling.com/event/argonne-fermi-national-lab-cyber-and-technology-series/
LOCATION:CA
END:VEVENT
BEGIN:VEVENT
DTSTART;VALUE=DATE:20260324
DTEND;VALUE=DATE:20260327
DTSTAMP:20260422T230115
CREATED:20260227T220532Z
LAST-MODIFIED:20260227T220532Z
UID:27818-1774310400-1774569599@sterling.com
SUMMARY:Global Force
DESCRIPTION:The AUSA Global Force Symposium & Exposition is the Association of the U.S. Army’s premier three-day event dedicated to advancing the Total Army’s modernization through synergistic collaboration between military\, industry\, and academia. Anchored in the Army’s Modernization Strategy\, Global Force is a vital forum for exploring how the Army evolves to remain Agile\, Adaptive\, and Lethal in an era of multi-domain challenges. \nFocus and Mission \nThe 2026 Global Force will spotlight the Army’s ongoing Transformation in Contact initiative—an approach that emphasizes iterative\, outcomes-focused modernization in realistic operational conditions.
URL:https://sterling.com/event/global-force/
LOCATION:Von Braun Center\, 700 Monroe St SW\, Huntsville\, AL\, 35801\, United States
CATEGORIES:Conference
END:VEVENT
BEGIN:VEVENT
DTSTART;VALUE=DATE:20260330
DTEND;VALUE=DATE:20260403
DTSTAMP:20260422T230115
CREATED:20260227T221253Z
LAST-MODIFIED:20260227T221253Z
UID:27822-1774828800-1775174399@sterling.com
SUMMARY:Indian Gaming Tradeshow & Convention
DESCRIPTION:The Indian Gaming Tradeshow & Convention has established itself not only as the premier event for the Indian Gaming Industry standing as the driving force behind Native American success. \nThe largest gathering of tribal leaders and casino executives in the country\, the Indian Gaming Tradeshow & Convention is both the meeting place where the community gathers to learn\, network and exchange industry-specific ideas and a cultural celebration of success\, strength and self-reliance.
URL:https://sterling.com/event/indian-gaming-tradeshow-convention-2/
LOCATION:San Diego Convention Center\, 111 W. Harbor Drive\, San Diego\, CA\, 92101\, United States
CATEGORIES:Tradeshow
END:VEVENT
BEGIN:VEVENT
DTSTART;VALUE=DATE:20260401
DTEND;VALUE=DATE:20260403
DTSTAMP:20260422T230115
CREATED:20260227T221919Z
LAST-MODIFIED:20260227T221919Z
UID:27824-1775001600-1775174399@sterling.com
SUMMARY:PNNL AI Discovery Summit
DESCRIPTION:The PNNL AI Discovery Summit is a lab-wide initiative focused on increasing staff awareness\, understanding\, and responsible use of artificial intelligence tools and capabilities across PNNL research and operations. The exhibit dates will be: April 1-2\, 2026. \nThis multi-day program supports PNNL’s broader efforts to strengthen AI readiness by bringing together tools\, expertise\, guidance\, resources\, and real-world use cases in one cohesive\, accessible experience. Purpose PNNL AI Discovery Summit is designed to build lab-wide clarity\, confidence\, and momentum around AI\, ensuring staff are equipped to apply AI safely\, responsibly\, and effectively in their work.
URL:https://sterling.com/event/pnnl-ai-discovery-summit/
LOCATION:CA
CATEGORIES:Summit
END:VEVENT
BEGIN:VEVENT
DTSTART;VALUE=DATE:20260407
DTEND;VALUE=DATE:20260411
DTSTAMP:20260422T230115
CREATED:20260309T210352Z
LAST-MODIFIED:20260309T210352Z
UID:27836-1775520000-1775865599@sterling.com
SUMMARY:TAGITM
DESCRIPTION:The TAGITM Annual Education Conference will be held April 7-10\, 2026 at the JW Marriott Hill Country Resort\, San Antonio\, Texas. The TAGITM Conference provides technology education specific to county and city IT Managers and staff. If you are in charge of the technical strategic direction for your county or city or are involved in making technology decisions and recommendations for your municipality\, you will want to attend! \nThe TAGITM Conference Committee delivers an outstanding program. Over 45 years of leadership\, insight and innovation go into the planning of this conference. The conference provides excellent education sessions\, opportunities to explore the exhibit hall to learn about new cutting edge technologies and services from some of the industry’s leading providers\, and networking with business partners from across the state.
URL:https://sterling.com/event/tagitm-2/
LOCATION:JW Marriott Hill Country Resort\, 23808 Resort Pkwy\, San Antonion\, 78261\, United States
CATEGORIES:Conference
END:VEVENT
BEGIN:VEVENT
DTSTART;VALUE=DATE:20260430
DTEND;VALUE=DATE:20260502
DTSTAMP:20260422T230115
CREATED:20260309T211048Z
LAST-MODIFIED:20260309T211048Z
UID:27839-1777507200-1777679999@sterling.com
SUMMARY:NETA 2026 Spring Conference
DESCRIPTION:The NETA Spring Conference brings educators together to inspire innovation and strengthen connections. \nAcross two dynamic days\, you’ll design your own professional learning path—featuring breakout sessions\, interactive exhibits\, engaging keynote speakers\, and meaningful networking. Every experience is crafted to empower you with new ideas and practical tools for success.
URL:https://sterling.com/event/neta-2026-spring-conference/
LOCATION:Younes Conference Center North\, 707 Talmadge St.\, Kearney\, NE\, 68845\, United States
CATEGORIES:Conference
END:VEVENT
BEGIN:VEVENT
DTSTART;VALUE=DATE:20260504
DTEND;VALUE=DATE:20260508
DTSTAMP:20260422T230115
CREATED:20260309T211347Z
LAST-MODIFIED:20260309T211347Z
UID:27842-1777852800-1778198399@sterling.com
SUMMARY:NLIT Summit
DESCRIPTION:The NLIT Summit is sponsored by the NLIT Society\, a professional society founded to facilitate the exchange of best practices and ideas among IT and Cybersecurity professionals within the DOE complex\, strengthen the infrastructure\, and identify efficiencies within the DOE laboratory system. The Summit facilitates sharing information regarding all aspects of IT and Cybersecurity operations\, technology\, policies\, and practices in support of research conducted at the Laboratories. It is open to all personnel in the IT and Cybersecurity fields working at Laboratories and Plants affiliated with government funded activities\, as well as Federal government employees in the IT or Cybersecurity fields that work at agencies associated with the participating Laboratories. \nThe Summit consists of presentations\, Community of Interest Network (COIN) collaboration sessions\, panel discussions\, tutorials\, and technology demonstrations on a variety of topics of current interest to the IT community within DOE. There is an emphasis on providing opportunities for active participation and networking between attendees. Best practices\, strategies\, methodologies\, implementations\, lessons learned\, innovative solutions\, and emerging topics within the DOE community are shared during the Summit’s many sessions and events.
URL:https://sterling.com/event/nlit-summit-4/
LOCATION:Kansas City Convention Center\, 301 W. 13th Street\, Kansas City\, MO\, 64105\, United States
CATEGORIES:Summit
END:VEVENT
BEGIN:VEVENT
DTSTART;VALUE=DATE:20260506
DTEND;VALUE=DATE:20260507
DTSTAMP:20260422T230115
CREATED:20260422T123143Z
LAST-MODIFIED:20260422T123143Z
UID:28760-1778025600-1778111999@sterling.com
SUMMARY:Nebraska IT Leadership Forum
DESCRIPTION:The Nebraska IT Leadership Forum is where tomorrow’s government leaders grow today. \nThis invitation-only gathering brings together state and local IT executives\, emerging leaders\, and visionary thinkers for candid conversations on the future of public-sector technology. Focused on leadership development\, innovation\, and strategy\, the Forum goes beyond the tech to address the people\, policies\, and practices shaping digital government. Through peer exchange and practical sessions\, participants gain the insights\, relationships\, and skills needed to lead their organizations and communities into the future.
URL:https://sterling.com/event/nebraska-it-leadership-forum/
LOCATION:Embassy Suites by Hilton Lincoln\, 1040 P Street\, Lincoln\, NE\, 68508\, United States
CATEGORIES:Conference
END:VEVENT
BEGIN:VEVENT
DTSTART;VALUE=DATE:20260518
DTEND;VALUE=DATE:20260522
DTSTAMP:20260422T230115
CREATED:20260422T123821Z
LAST-MODIFIED:20260422T123821Z
UID:28763-1779062400-1779407999@sterling.com
SUMMARY:Dell Technologies World
DESCRIPTION:Dell Technologies World is your chance to see how AI\, data and modern infrastructure can tackle big challenges like cybersecurity and data management while delivering real ROI. It’s not just a tech conference — it’s a smart investment in driving digital transformation and staying ahead of the competition.
URL:https://sterling.com/event/dell-technologies-world/
LOCATION:The Venetian\, 3355 S Las Vegas Blvd\, Las Vegas\, NV\, 89109\, United States
CATEGORIES:Conference
END:VEVENT
BEGIN:VEVENT
DTSTART;VALUE=DATE:20260518
DTEND;VALUE=DATE:20260522
DTSTAMP:20260422T230115
CREATED:20260422T124031Z
LAST-MODIFIED:20260422T124031Z
UID:28765-1779062400-1779407999@sterling.com
SUMMARY:SOF Week
DESCRIPTION:SOF Week brings the international Special Operations community together for one focused week of collaboration\, learning\, and capability development. Jointly supported by U.S. Special Operations Command and the Global SOF Foundation\, the event serves as the central gathering point for SOF Operators\, government leaders\, and industry partners working to advance the mission. \n\nAt its core\, SOF Week is about connection and alignment. It provides a trusted environment where operational requirements\, emerging technologies\, and strategic priorities come together in one place. Through briefings\, demonstrations\, exhibits\, and networking\, the event accelerates conversations that directly impact capability development and mission success.
URL:https://sterling.com/event/sof-week-3/
LOCATION:Tampa Convention Center\, 333 S Franklin St\, Tampa\, FL\, 33602\, United States
CATEGORIES:Conference
END:VEVENT
BEGIN:VEVENT
DTSTART;VALUE=DATE:20260531
DTEND;VALUE=DATE:20260605
DTSTAMP:20260422T230115
CREATED:20260422T124411Z
LAST-MODIFIED:20260422T124411Z
UID:28767-1780185600-1780617599@sterling.com
SUMMARY:Cisco Live
DESCRIPTION:For over 36 years\, Cisco Live has been the ultimate destination for IT practitioners. Supercharge your skills\, explore the future of tech\, build your network\, and celebrate one another! \nThe Cisco Live community unites for an event like no other. Packed with cutting-edge technical education\, game-changing insights\, and inspiration to help you achieve your personal and professional goals.
URL:https://sterling.com/event/cisco-live-4/
LOCATION:Mandalay Bay Convention Center\, 3950 S. Las Vegas Blvd\, Las Vegas\, NV\, United States
CATEGORIES:Conference
END:VEVENT
BEGIN:VEVENT
DTSTART;VALUE=DATE:20260602
DTEND;VALUE=DATE:20260605
DTSTAMP:20260422T230115
CREATED:20260422T124635Z
LAST-MODIFIED:20260422T124635Z
UID:28769-1780358400-1780617599@sterling.com
SUMMARY:TechNet Cyber
DESCRIPTION:Adversaries have taken to cyberspace to conduct continuous confrontations. Protecting cyber assets requires more than a single entity\, it demands multiple organizations. Join us for this three-day event and interact with IT professionals\, hear from experts and develop solutions to ensure technology can connect people to information.
URL:https://sterling.com/event/technet-cyber-4/
LOCATION:Baltimore Convention Center\, One West Pratt Street\, Baltimore\, MD\, 21201\, United States
CATEGORIES:Conference
END:VEVENT
BEGIN:VEVENT
DTSTART;VALUE=DATE:20260817
DTEND;VALUE=DATE:20260821
DTSTAMP:20260422T230115
CREATED:20260422T125153Z
LAST-MODIFIED:20260422T125153Z
UID:28776-1786924800-1787270399@sterling.com
SUMMARY:TechNet Augusta
DESCRIPTION:With assistance from the U.S. Army Cyber Center of Excellence and industry\, this three-day conference is designed to open the lines of communication between the military and commercial sector and provide a space where government and industry professionals can discuss issues and share solutions surrounding cyber electromagnetic activities and unified land operations.
URL:https://sterling.com/event/technet-augusta-8/
LOCATION:Augusta Marriott at the Convention Center\, Two Tenth Street\, Augusta\, GA\, 30901\, United States
END:VEVENT
BEGIN:VEVENT
DTSTART;VALUE=DATE:20260920
DTEND;VALUE=DATE:20260925
DTSTAMP:20260422T230115
CREATED:20260422T125011Z
LAST-MODIFIED:20260422T125011Z
UID:28774-1789862400-1790294399@sterling.com
SUMMARY:TribalNet
DESCRIPTION:The TribalNet Conference & Tradeshow is the annual gathering of the TribalHub community. It is not just another conference; it is an experience! This is one of the only events truly dedicated to Native American government\, gaming\, and health technology – with topics that are relevant to what is going on both nationally and locally. The attendees and vendors are open\, engaged and ready to make valuable connections! In today’s world\, it’s more essential than ever\, for business leaders to utilize cutting-edge technologies and leadership strategies across all departments to create sustainable growth and success. The TribalNet Conference & Tradeshow is a great opportunity to take advantage of a growing network of resources\, experience and industry connections\, ensuring that enterprise and government leaders are in possession of the tools and information that they need to thrive in their industries. \nThe event is packed with real-world solutions and breakthrough technologies that are already helping tribes across the country save money\, operate more efficiently\, and protect their digital infrastructure. If you’re not there\, you risk missing out on innovations that could have a direct financial impact on your organization.
URL:https://sterling.com/event/tribalnet/
LOCATION:Hilton Anatole Dallas\, 2201 N Stemmons Fwy\, Dallas\, TX\, 75207\, United States
CATEGORIES:Conference
END:VEVENT
END:VCALENDAR