BEGIN:VCALENDAR
VERSION:2.0
PRODID:-//Sterling - ECPv6.15.17.1//NONSGML v1.0//EN
CALSCALE:GREGORIAN
METHOD:PUBLISH
X-WR-CALNAME:Sterling
X-ORIGINAL-URL:https://sterling.com
X-WR-CALDESC:Events for Sterling
REFRESH-INTERVAL;VALUE=DURATION:PT1H
X-Robots-Tag:noindex
X-PUBLISHED-TTL:PT1H
BEGIN:VTIMEZONE
TZID:UTC
BEGIN:STANDARD
TZOFFSETFROM:+0000
TZOFFSETTO:+0000
TZNAME:UTC
DTSTART:20250101T000000
END:STANDARD
END:VTIMEZONE
BEGIN:VEVENT
DTSTART;VALUE=DATE:20260518
DTEND;VALUE=DATE:20260522
DTSTAMP:20260422T221943
CREATED:20260422T124031Z
LAST-MODIFIED:20260422T124031Z
UID:28765-1779062400-1779407999@sterling.com
SUMMARY:SOF Week
DESCRIPTION:SOF Week brings the international Special Operations community together for one focused week of collaboration\, learning\, and capability development. Jointly supported by U.S. Special Operations Command and the Global SOF Foundation\, the event serves as the central gathering point for SOF Operators\, government leaders\, and industry partners working to advance the mission. \n\nAt its core\, SOF Week is about connection and alignment. It provides a trusted environment where operational requirements\, emerging technologies\, and strategic priorities come together in one place. Through briefings\, demonstrations\, exhibits\, and networking\, the event accelerates conversations that directly impact capability development and mission success.
URL:https://sterling.com/event/sof-week-3/
LOCATION:Tampa Convention Center\, 333 S Franklin St\, Tampa\, FL\, 33602\, United States
CATEGORIES:Conference
END:VEVENT
BEGIN:VEVENT
DTSTART;VALUE=DATE:20260531
DTEND;VALUE=DATE:20260605
DTSTAMP:20260422T221943
CREATED:20260422T124411Z
LAST-MODIFIED:20260422T124411Z
UID:28767-1780185600-1780617599@sterling.com
SUMMARY:Cisco Live
DESCRIPTION:For over 36 years\, Cisco Live has been the ultimate destination for IT practitioners. Supercharge your skills\, explore the future of tech\, build your network\, and celebrate one another! \nThe Cisco Live community unites for an event like no other. Packed with cutting-edge technical education\, game-changing insights\, and inspiration to help you achieve your personal and professional goals.
URL:https://sterling.com/event/cisco-live-4/
LOCATION:Mandalay Bay Convention Center\, 3950 S. Las Vegas Blvd\, Las Vegas\, NV\, United States
CATEGORIES:Conference
END:VEVENT
BEGIN:VEVENT
DTSTART;VALUE=DATE:20260602
DTEND;VALUE=DATE:20260605
DTSTAMP:20260422T221943
CREATED:20260422T124635Z
LAST-MODIFIED:20260422T124635Z
UID:28769-1780358400-1780617599@sterling.com
SUMMARY:TechNet Cyber
DESCRIPTION:Adversaries have taken to cyberspace to conduct continuous confrontations. Protecting cyber assets requires more than a single entity\, it demands multiple organizations. Join us for this three-day event and interact with IT professionals\, hear from experts and develop solutions to ensure technology can connect people to information.
URL:https://sterling.com/event/technet-cyber-4/
LOCATION:Baltimore Convention Center\, One West Pratt Street\, Baltimore\, MD\, 21201\, United States
CATEGORIES:Conference
END:VEVENT
BEGIN:VEVENT
DTSTART;VALUE=DATE:20260817
DTEND;VALUE=DATE:20260821
DTSTAMP:20260422T221943
CREATED:20260422T125153Z
LAST-MODIFIED:20260422T125153Z
UID:28776-1786924800-1787270399@sterling.com
SUMMARY:TechNet Augusta
DESCRIPTION:With assistance from the U.S. Army Cyber Center of Excellence and industry\, this three-day conference is designed to open the lines of communication between the military and commercial sector and provide a space where government and industry professionals can discuss issues and share solutions surrounding cyber electromagnetic activities and unified land operations.
URL:https://sterling.com/event/technet-augusta-8/
LOCATION:Augusta Marriott at the Convention Center\, Two Tenth Street\, Augusta\, GA\, 30901\, United States
END:VEVENT
BEGIN:VEVENT
DTSTART;VALUE=DATE:20260920
DTEND;VALUE=DATE:20260925
DTSTAMP:20260422T221943
CREATED:20260422T125011Z
LAST-MODIFIED:20260422T125011Z
UID:28774-1789862400-1790294399@sterling.com
SUMMARY:TribalNet
DESCRIPTION:The TribalNet Conference & Tradeshow is the annual gathering of the TribalHub community. It is not just another conference; it is an experience! This is one of the only events truly dedicated to Native American government\, gaming\, and health technology – with topics that are relevant to what is going on both nationally and locally. The attendees and vendors are open\, engaged and ready to make valuable connections! In today’s world\, it’s more essential than ever\, for business leaders to utilize cutting-edge technologies and leadership strategies across all departments to create sustainable growth and success. The TribalNet Conference & Tradeshow is a great opportunity to take advantage of a growing network of resources\, experience and industry connections\, ensuring that enterprise and government leaders are in possession of the tools and information that they need to thrive in their industries. \nThe event is packed with real-world solutions and breakthrough technologies that are already helping tribes across the country save money\, operate more efficiently\, and protect their digital infrastructure. If you’re not there\, you risk missing out on innovations that could have a direct financial impact on your organization.
URL:https://sterling.com/event/tribalnet/
LOCATION:Hilton Anatole Dallas\, 2201 N Stemmons Fwy\, Dallas\, TX\, 75207\, United States
CATEGORIES:Conference
END:VEVENT
END:VCALENDAR