BEGIN:VCALENDAR
VERSION:2.0
PRODID:-//Sterling - ECPv6.15.17.1//NONSGML v1.0//EN
CALSCALE:GREGORIAN
METHOD:PUBLISH
X-WR-CALNAME:Sterling
X-ORIGINAL-URL:https://sterling.com/stargazer
X-WR-CALDESC:Events for Sterling
REFRESH-INTERVAL;VALUE=DURATION:PT1H
X-Robots-Tag:noindex
X-PUBLISHED-TTL:PT1H
BEGIN:VTIMEZONE
TZID:UTC
BEGIN:STANDARD
TZOFFSETFROM:+0000
TZOFFSETTO:+0000
TZNAME:UTC
DTSTART:20250101T000000
END:STANDARD
END:VTIMEZONE
BEGIN:VEVENT
DTSTART;VALUE=DATE:20260429
DTEND;VALUE=DATE:20260430
DTSTAMP:20260421T004555
CREATED:20260219T151601Z
LAST-MODIFIED:20260302T174438Z
UID:27795-1777420800-1777507199@sterling.com
SUMMARY:Barksdale Tech Expo
DESCRIPTION:This highly successful event has grown into a major technology event for Barksdale in just a few short years. Barksdale AFB is home to the Air Force Global Strike Command. AFGSC was activated in August\, 2009\, and is responsible for the nation’s three Intercontinental Ballistic Missile Wings\, two B-52 Stratofortress Wings\, two B-1B Lancer Wings\, the only B-2 Spirit Wing\, and the Air Force Nuclear Weapons Center. The “Mighty Eighth” Air Force\, of World War II fame\, is headquartered at the Barksdale. Barksdale is home to the 2nd Bomb Wing\, 2nd Operations Group\, 2nd Maintenance Group\, 2nd Mission Support Group\, the 2nd Medical Group\, 26th Operational Weather Squadron\, & the Reserves 307th Bomb Wing. The 2026 Expo will be a great opportunity to reach personnel from the commands and units who use and procure technology for this important Air Force Base and will be the only technology expo at Barksdale AFB this year. This very popular event always sells out with several vendors on a wait list for the most recent show there in 2025.
URL:https://sterling.com/stargazer/?tribe_events=barksdale-tech-expo
LOCATION:The Buff Club\, 155 Rickenbacker Ave\, Barksdale AFB\, LA\, 71110\, United States
CATEGORIES:Expo
END:VEVENT
BEGIN:VEVENT
DTSTART;VALUE=DATE:20260429
DTEND;VALUE=DATE:20260502
DTSTAMP:20260421T004555
CREATED:20260105T220817Z
LAST-MODIFIED:20260302T174534Z
UID:27509-1777420800-1777679999@sterling.com
SUMMARY:HPE Public Sector Partner Summit
DESCRIPTION:Bringing together the annual HPE Public Sector Partner Summit and the CTO Summit creates a powerful convergence of strategic leadership and technical innovation—enabling deeper collaboration\, richer learning\, and accelerated outcomes across Public Sector markets. This is where we unite to Accelerate\, Differentiate\, and Strengthen our partnerships to deliver on the nation’s most pressing priorities.
URL:https://sterling.com/stargazer/?tribe_events=hpe-public-sector-partner-summit
LOCATION:Hyatt Regency Capitol Hill\, 400 New Jersey Ave\, Washington\, 20001
CATEGORIES:Summit
END:VEVENT
BEGIN:VEVENT
DTSTART;VALUE=DATE:20260430
DTEND;VALUE=DATE:20260501
DTSTAMP:20260421T004555
CREATED:20260219T151955Z
LAST-MODIFIED:20260302T173605Z
UID:27797-1777507200-1777593599@sterling.com
SUMMARY:Defense IT Summit
DESCRIPTION:The Defense IT Summit will bring together senior IT leaders to examine how emerging technologies and strategies are advancing mission readiness. Senior officials will highlight defense priorities in AI\, acquisition\, cybersecurity\, risk management and more\, with a focus on accelerating technology delivery. \nAttendees will gain insight on evolving cyber defense strategies\, while exploring how new models and modern IT practices are reshaping operational capabilities. Register to learn how the War Department is balancing innovation with risk\, ensuring secure and agile systems to meet the demands of today’s national security environment.
URL:https://sterling.com/stargazer/?tribe_events=defense-it-summit
LOCATION:Ritz Carlton Pentagon City\, 1250 S Hayes St\, Arlington\, VA\, 22202\, United States
CATEGORIES:Summit
END:VEVENT
END:VCALENDAR